Package: DEqMS Version: 1.29.0 Command: /Library/Frameworks/R.framework/Resources/bin/R CMD build --keep-empty-dirs --no-resave-data DEqMS StartedAt: 2025-11-21 16:08:20 -0500 (Fri, 21 Nov 2025) EndedAt: 2025-11-21 16:09:08 -0500 (Fri, 21 Nov 2025) EllapsedTime: 48.5 seconds RetCode: 0 Status: OK PackageFile: DEqMS_1.29.0.tar.gz PackageFileSize: 2.306 MiB