Package: DEqMS Version: 1.29.0 Command: rm -rf DEqMS.buildbin-libdir && mkdir DEqMS.buildbin-libdir && /Users/biocbuild/BBS/utils/build-universal.sh DEqMS_1.29.0.tar.gz /Library/Frameworks/R.framework/Resources/bin/R DEqMS.buildbin-libdir StartedAt: 2025-11-21 23:29:41 -0500 (Fri, 21 Nov 2025) EndedAt: 2025-11-21 23:29:45 -0500 (Fri, 21 Nov 2025) EllapsedTime: 4.1 seconds RetCode: 0 Status: OK PackageFile: DEqMS_1.29.0.tgz PackageFileSize: 2.246 MiB