Package: DEXSeq Version: 1.55.1 Command: /home/biocbuild/R/R/bin/R CMD INSTALL DEXSeq StartedAt: 2025-10-13 21:03:31 -0000 (Mon, 13 Oct 2025) EndedAt: 2025-10-13 21:04:19 -0000 (Mon, 13 Oct 2025) EllapsedTime: 47.2 seconds RetCode: 0 Status: OK