Package: DEXSeq Version: 1.55.1 Command: /home/biocbuild/R/R/bin/R CMD build --keep-empty-dirs --no-resave-data DEXSeq StartedAt: 2025-10-13 23:49:05 -0000 (Mon, 13 Oct 2025) EndedAt: 2025-10-13 23:51:42 -0000 (Mon, 13 Oct 2025) EllapsedTime: 157.1 seconds RetCode: 0 Status: OK PackageFile: DEXSeq_1.55.1.tar.gz PackageFileSize: 897.2 KiB