Package: DEXSeq Version: 1.55.1 Command: chmod a+r DEXSeq -R && F:\biocbuild\bbs-3.22-bioc\R\bin\R.exe CMD build --keep-empty-dirs --no-resave-data DEXSeq StartedAt: 2025-08-14 19:41:38 -0400 (Thu, 14 Aug 2025) EndedAt: 2025-08-14 19:45:25 -0400 (Thu, 14 Aug 2025) EllapsedTime: 227.6 seconds RetCode: 0 Status: OK PackageFile: DEXSeq_1.55.1.tar.gz PackageFileSize: 581.2 KiB