Package: DEXSeq Version: 1.55.1 Command: rm -rf DEXSeq.buildbin-libdir && mkdir DEXSeq.buildbin-libdir && F:\biocbuild\bbs-3.22-bioc\R\bin\R.exe CMD INSTALL --build --library=DEXSeq.buildbin-libdir DEXSeq_1.55.1.tar.gz StartedAt: 2025-08-15 10:09:15 -0400 (Fri, 15 Aug 2025) EndedAt: 2025-08-15 10:10:06 -0400 (Fri, 15 Aug 2025) EllapsedTime: 50.3 seconds RetCode: 0 Status: OK PackageFile: DEXSeq_1.55.1.zip PackageFileSize: 1022 KiB