Package: DEXSeq Version: 1.55.1 Command: /home/biocbuild/bbs-3.22-bioc/R/bin/R CMD check --install=check:DEXSeq.install-out.txt --library=/home/biocbuild/bbs-3.22-bioc/R/site-library --timings DEXSeq_1.55.1.tar.gz StartedAt: 2025-10-05 23:18:25 -0400 (Sun, 05 Oct 2025) EndedAt: 2025-10-05 23:25:02 -0400 (Sun, 05 Oct 2025) EllapsedTime: 397.3 seconds RetCode: 0 Status: OK CheckDir: DEXSeq.Rcheck Warnings: 0