Package: DEXSeq Version: 1.57.0 Command: /home/biocbuild/bbs-3.23-bioc/R/bin/R CMD INSTALL DEXSeq StartedAt: 2025-11-04 15:27:00 -0500 (Tue, 04 Nov 2025) EndedAt: 2025-11-04 15:27:37 -0500 (Tue, 04 Nov 2025) EllapsedTime: 36.9 seconds RetCode: 0 Status: OK