Package: DEXSeq Version: 1.55.1 Command: /Library/Frameworks/R.framework/Resources/bin/R CMD INSTALL DEXSeq StartedAt: 2025-10-13 15:27:26 -0400 (Mon, 13 Oct 2025) EndedAt: 2025-10-13 15:28:16 -0400 (Mon, 13 Oct 2025) EllapsedTime: 50.0 seconds RetCode: 0 Status: OK