Package: DEXSeq Version: 1.55.1 Command: /Library/Frameworks/R.framework/Resources/bin/R CMD build --keep-empty-dirs --no-resave-data DEXSeq StartedAt: 2025-10-14 16:53:13 -0400 (Tue, 14 Oct 2025) EndedAt: 2025-10-14 16:55:49 -0400 (Tue, 14 Oct 2025) EllapsedTime: 155.8 seconds RetCode: 0 Status: OK PackageFile: DEXSeq_1.55.1.tar.gz PackageFileSize: 1.779 MiB