Package: DEXSeq Version: 1.55.1 Command: rm -rf DEXSeq.buildbin-libdir && mkdir DEXSeq.buildbin-libdir && /Users/biocbuild/BBS/utils/build-universal.sh DEXSeq_1.55.1.tar.gz /Library/Frameworks/R.framework/Resources/bin/R DEXSeq.buildbin-libdir StartedAt: 2025-10-14 02:40:55 -0400 (Tue, 14 Oct 2025) EndedAt: 2025-10-14 02:41:50 -0400 (Tue, 14 Oct 2025) EllapsedTime: 54.4 seconds RetCode: 0 Status: OK PackageFile: DEXSeq_1.55.1.tgz PackageFileSize: 2.206 MiB