Package: DEWSeq Version: 1.23.1 Command: /home/biocbuild/R/R/bin/R CMD INSTALL DEWSeq StartedAt: 2025-10-13 20:55:03 -0000 (Mon, 13 Oct 2025) EndedAt: 2025-10-13 20:55:36 -0000 (Mon, 13 Oct 2025) EllapsedTime: 33.2 seconds RetCode: 0 Status: OK