Package: DEWSeq Version: 1.23.1 Command: /home/biocbuild/bbs-3.22-bioc/R/bin/R CMD check --install=check:DEWSeq.install-out.txt --library=/home/biocbuild/bbs-3.22-bioc/R/site-library --timings DEWSeq_1.23.1.tar.gz StartedAt: 2025-10-03 23:11:12 -0400 (Fri, 03 Oct 2025) EndedAt: 2025-10-03 23:16:53 -0400 (Fri, 03 Oct 2025) EllapsedTime: 341.3 seconds RetCode: 0 Status: OK CheckDir: DEWSeq.Rcheck Warnings: 0