Package: DEWSeq Version: 1.25.0 Command: /home/biocbuild/bbs-3.23-bioc/R/bin/R CMD INSTALL DEWSeq StartedAt: 2025-11-05 15:28:28 -0500 (Wed, 05 Nov 2025) EndedAt: 2025-11-05 15:28:55 -0500 (Wed, 05 Nov 2025) EllapsedTime: 27.7 seconds RetCode: 0 Status: OK