Package: DEWSeq Version: 1.25.0 Command: /home/biocbuild/bbs-3.23-bioc/R/bin/R CMD check --install=check:DEWSeq.install-out.txt --library=/home/biocbuild/bbs-3.23-bioc/R/site-library --timings DEWSeq_1.25.0.tar.gz StartedAt: 2025-11-06 22:43:13 -0500 (Thu, 06 Nov 2025) EndedAt: 2025-11-06 22:48:47 -0500 (Thu, 06 Nov 2025) EllapsedTime: 333.3 seconds RetCode: 0 Status: OK CheckDir: DEWSeq.Rcheck Warnings: 0