Package: DEWSeq Version: 1.25.0 Command: /home/biocbuild/bbs-3.23-bioc/R/bin/R CMD build --keep-empty-dirs --no-resave-data DEWSeq StartedAt: 2025-11-04 17:12:36 -0500 (Tue, 04 Nov 2025) EndedAt: 2025-11-04 17:14:28 -0500 (Tue, 04 Nov 2025) EllapsedTime: 112.1 seconds RetCode: 0 Status: OK PackageFile: DEWSeq_1.25.0.tar.gz PackageFileSize: 3.346 MiB