Package: DESpace Version: 2.3.1 Command: /home/biocbuild/bbs-3.23-bioc/R/bin/R CMD INSTALL DESpace StartedAt: 2025-11-20 15:21:38 -0500 (Thu, 20 Nov 2025) EndedAt: 2025-11-20 15:22:20 -0500 (Thu, 20 Nov 2025) EllapsedTime: 42.6 seconds RetCode: 0 Status: OK