Package: DESpace Version: 2.3.1 Command: /home/biocbuild/bbs-3.23-bioc/R/bin/R CMD build --keep-empty-dirs --no-resave-data DESpace StartedAt: 2025-11-20 17:17:08 -0500 (Thu, 20 Nov 2025) EndedAt: 2025-11-20 17:28:37 -0500 (Thu, 20 Nov 2025) EllapsedTime: 688.6 seconds RetCode: 0 Status: OK PackageFile: DESpace_2.3.1.tar.gz PackageFileSize: 6.868 MiB