Package: DESpace Version: 2.1.0 Command: /Library/Frameworks/R.framework/Resources/bin/R CMD INSTALL DESpace StartedAt: 2025-10-22 15:23:10 -0400 (Wed, 22 Oct 2025) EndedAt: 2025-10-22 15:24:15 -0400 (Wed, 22 Oct 2025) EllapsedTime: 64.8 seconds RetCode: 0 Status: OK