Package: DESpace Version: 2.1.0 Command: /Library/Frameworks/R.framework/Resources/bin/R CMD build --keep-empty-dirs --no-resave-data DESpace StartedAt: 2025-10-23 16:44:02 -0400 (Thu, 23 Oct 2025) EndedAt: 2025-10-23 16:56:08 -0400 (Thu, 23 Oct 2025) EllapsedTime: 726.6 seconds RetCode: 0 Status: OK PackageFile: DESpace_2.1.0.tar.gz PackageFileSize: 9.589 MiB