Package: DESpace Version: 2.1.0 Command: /Library/Frameworks/R.framework/Resources/bin/R CMD INSTALL DESpace StartedAt: 2025-10-10 15:16:08 -0400 (Fri, 10 Oct 2025) EndedAt: 2025-10-10 15:16:25 -0400 (Fri, 10 Oct 2025) EllapsedTime: 16.6 seconds RetCode: 0 Status: OK