Package: DESpace Version: 2.1.0 Command: /Library/Frameworks/R.framework/Resources/bin/R CMD build --keep-empty-dirs --no-resave-data DESpace StartedAt: 2025-10-12 16:10:37 -0400 (Sun, 12 Oct 2025) EndedAt: 2025-10-12 16:15:51 -0400 (Sun, 12 Oct 2025) EllapsedTime: 314.5 seconds RetCode: 0 Status: OK PackageFile: DESpace_2.1.0.tar.gz PackageFileSize: 9.59 MiB