Package: DESpace Version: 2.1.0 Command: rm -rf DESpace.buildbin-libdir && mkdir DESpace.buildbin-libdir && /Users/biocbuild/BBS/utils/build-universal.sh DESpace_2.1.0.tar.gz /Library/Frameworks/R.framework/Resources/bin/R DESpace.buildbin-libdir StartedAt: 2025-10-10 22:38:48 -0400 (Fri, 10 Oct 2025) EndedAt: 2025-10-10 22:39:07 -0400 (Fri, 10 Oct 2025) EllapsedTime: 19.4 seconds RetCode: 0 Status: OK PackageFile: DESpace_2.1.0.tgz PackageFileSize: 9.663 MiB