Package: DESeq2 Version: 1.51.5 Command: /Library/Frameworks/R.framework/Resources/bin/R CMD INSTALL DESeq2 StartedAt: 2025-11-21 15:13:00 -0500 (Fri, 21 Nov 2025) EndedAt: 2025-11-21 15:13:14 -0500 (Fri, 21 Nov 2025) EllapsedTime: 13.5 seconds RetCode: 1 Status: ERROR