Package: DESeq2 Version: 1.51.5 Command: /Library/Frameworks/R.framework/Resources/bin/R CMD build --keep-empty-dirs --no-resave-data DESeq2 StartedAt: 2025-11-20 16:09:06 -0500 (Thu, 20 Nov 2025) EndedAt: 2025-11-20 16:09:21 -0500 (Thu, 20 Nov 2025) EllapsedTime: 14.2 seconds RetCode: 1 Status: ERROR PackageFile: None PackageFileSize: NA