Package: DESeq2 Version: 1.51.3 Command: rm -rf DESeq2.buildbin-libdir && mkdir DESeq2.buildbin-libdir && /Users/biocbuild/BBS/utils/build-universal.sh DESeq2_1.51.3.tar.gz /Library/Frameworks/R.framework/Resources/bin/R DESeq2.buildbin-libdir StartedAt: 2025-11-18 00:30:54 -0500 (Tue, 18 Nov 2025) EndedAt: 2025-11-18 00:31:17 -0500 (Tue, 18 Nov 2025) EllapsedTime: 22.5 seconds RetCode: 0 Status: OK PackageFile: DESeq2_1.51.3.tgz PackageFileSize: 4.083 MiB