Package: DEScan2 Version: 1.31.0 Command: /home/biocbuild/bbs-3.23-bioc/R/bin/R CMD build --keep-empty-dirs --no-resave-data DEScan2 StartedAt: 2025-11-20 17:16:51 -0500 (Thu, 20 Nov 2025) EndedAt: 2025-11-20 17:18:24 -0500 (Thu, 20 Nov 2025) EllapsedTime: 92.1 seconds RetCode: 0 Status: OK PackageFile: DEScan2_1.31.0.tar.gz PackageFileSize: 2.482 MiB