Package: DEP Version: 1.31.2 Command: /Library/Frameworks/R.framework/Resources/bin/R CMD INSTALL DEP StartedAt: 2025-10-14 15:36:44 -0400 (Tue, 14 Oct 2025) EndedAt: 2025-10-14 15:37:43 -0400 (Tue, 14 Oct 2025) EllapsedTime: 59.4 seconds RetCode: 0 Status: OK