Package: DEP Version: 1.31.2 Command: rm -rf DEP.buildbin-libdir && mkdir DEP.buildbin-libdir && /Users/biocbuild/BBS/utils/build-universal.sh DEP_1.31.2.tar.gz /Library/Frameworks/R.framework/Resources/bin/R DEP.buildbin-libdir StartedAt: 2025-10-15 02:40:56 -0400 (Wed, 15 Oct 2025) EndedAt: 2025-10-15 02:41:58 -0400 (Wed, 15 Oct 2025) EllapsedTime: 62.7 seconds RetCode: 0 Status: OK PackageFile: DEP_1.31.2.tgz PackageFileSize: 4.27 MiB