Package: DELocal Version: 1.11.0 Command: /home/biocbuild/bbs-3.23-bioc/R/bin/R CMD build --keep-empty-dirs --no-resave-data DELocal StartedAt: 2025-11-21 17:14:02 -0500 (Fri, 21 Nov 2025) EndedAt: 2025-11-21 17:14:38 -0500 (Fri, 21 Nov 2025) EllapsedTime: 36.1 seconds RetCode: 1 Status: ERROR PackageFile: None PackageFileSize: NA