Package: DELocal Version: 1.11.0 Command: /Library/Frameworks/R.framework/Resources/bin/R CMD INSTALL DELocal StartedAt: 2025-11-21 15:28:13 -0500 (Fri, 21 Nov 2025) EndedAt: 2025-11-21 15:28:48 -0500 (Fri, 21 Nov 2025) EllapsedTime: 35.5 seconds RetCode: 0 Status: OK