Package: DELocal Version: 1.11.0 Command: /Library/Frameworks/R.framework/Resources/bin/R CMD build --keep-empty-dirs --no-resave-data DELocal StartedAt: 2025-11-21 16:45:45 -0500 (Fri, 21 Nov 2025) EndedAt: 2025-11-21 16:46:32 -0500 (Fri, 21 Nov 2025) EllapsedTime: 46.9 seconds RetCode: 1 Status: ERROR PackageFile: None PackageFileSize: NA