Package: DELocal Version: 1.9.0 Command: /Library/Frameworks/R.framework/Resources/bin/R CMD build --keep-empty-dirs --no-resave-data DELocal StartedAt: 2025-10-14 16:09:57 -0400 (Tue, 14 Oct 2025) EndedAt: 2025-10-14 16:10:12 -0400 (Tue, 14 Oct 2025) EllapsedTime: 15.2 seconds RetCode: 1 Status: ERROR PackageFile: None PackageFileSize: NA