Package: DEGseq Version: 1.65.0 Command: /home/biocbuild/bbs-3.23-bioc/R/bin/R CMD INSTALL DEGseq StartedAt: 2025-11-20 15:09:19 -0500 (Thu, 20 Nov 2025) EndedAt: 2025-11-20 15:09:32 -0500 (Thu, 20 Nov 2025) EllapsedTime: 13.6 seconds RetCode: 0 Status: OK