Package: DEGseq Version: 1.63.0 Command: /Library/Frameworks/R.framework/Resources/bin/R CMD INSTALL DEGseq StartedAt: 2025-10-14 15:12:23 -0400 (Tue, 14 Oct 2025) EndedAt: 2025-10-14 15:12:59 -0400 (Tue, 14 Oct 2025) EllapsedTime: 36.1 seconds RetCode: 0 Status: OK