Package: DEGseq Version: 1.63.0 Command: /Library/Frameworks/R.framework/Resources/bin/R CMD INSTALL DEGseq StartedAt: 2025-09-29 15:05:35 -0400 (Mon, 29 Sep 2025) EndedAt: 2025-09-29 15:05:39 -0400 (Mon, 29 Sep 2025) EllapsedTime: 4.8 seconds RetCode: 0 Status: OK