Package: DEGseq Version: 1.63.0 Command: /Library/Frameworks/R.framework/Resources/bin/R CMD build --keep-empty-dirs --no-resave-data DEGseq StartedAt: 2025-09-29 16:08:32 -0400 (Mon, 29 Sep 2025) EndedAt: 2025-09-29 16:08:43 -0400 (Mon, 29 Sep 2025) EllapsedTime: 11.1 seconds RetCode: 0 Status: OK PackageFile: DEGseq_1.63.0.tar.gz PackageFileSize: 1.962 MiB