Package: DEGseq Version: 1.65.0 Maintainer: Likun Wang MaintainerEmail: wanglk at pku.edu.cn git_url: https://git.bioconductor.org/packages/DEGseq git_branch: devel git_last_commit: 2c62565 git_last_commit_date: 2025-10-29 10:03:59 -0400 (Wed, 29 Oct 2025)