Package: DEGreport Version: 1.45.0 Command: /home/biocbuild/bbs-3.22-bioc/R/bin/R CMD INSTALL DEGreport StartedAt: 2025-10-05 15:32:41 -0400 (Sun, 05 Oct 2025) EndedAt: 2025-10-05 15:33:13 -0400 (Sun, 05 Oct 2025) EllapsedTime: 31.9 seconds RetCode: 0 Status: OK