Package: DEGreport Version: 1.45.0 Command: /home/biocbuild/bbs-3.22-bioc/R/bin/R CMD build --keep-empty-dirs --no-resave-data --md5 DEGreport StartedAt: 2025-10-05 17:14:04 -0400 (Sun, 05 Oct 2025) EndedAt: 2025-10-05 17:14:52 -0400 (Sun, 05 Oct 2025) EllapsedTime: 48.0 seconds RetCode: 1 Status: ERROR PackageFile: None PackageFileSize: NA