Package: DEGreport Version: 1.47.0 Command: /Library/Frameworks/R.framework/Resources/bin/R CMD build --keep-empty-dirs --no-resave-data DEGreport StartedAt: 2025-11-21 16:06:51 -0500 (Fri, 21 Nov 2025) EndedAt: 2025-11-21 16:07:20 -0500 (Fri, 21 Nov 2025) EllapsedTime: 29.3 seconds RetCode: 0 Status: OK PackageFile: DEGreport_1.47.0.tar.gz PackageFileSize: 19.74 MiB