Package: DEGraph Version: 1.61.0 Command: /home/biocbuild/bbs-3.22-bioc/R/bin/R CMD check --install=check:DEGraph.install-out.txt --library=/home/biocbuild/bbs-3.22-bioc/R/site-library --timings DEGraph_1.61.0.tar.gz StartedAt: 2025-10-24 22:56:31 -0400 (Fri, 24 Oct 2025) EndedAt: 2025-10-24 22:57:55 -0400 (Fri, 24 Oct 2025) EllapsedTime: 84.1 seconds RetCode: 0 Status: OK CheckDir: DEGraph.Rcheck Warnings: 0