Package: DEGraph Version: 1.63.0 Command: /home/biocbuild/bbs-3.23-bioc/R/bin/R CMD INSTALL DEGraph StartedAt: 2025-11-10 15:37:19 -0500 (Mon, 10 Nov 2025) EndedAt: 2025-11-10 15:37:28 -0500 (Mon, 10 Nov 2025) EllapsedTime: 8.6 seconds RetCode: 0 Status: OK