Package: DEGraph Version: 1.63.0 Command: /home/biocbuild/bbs-3.23-bioc/R/bin/R CMD build --keep-empty-dirs --no-resave-data DEGraph StartedAt: 2025-11-10 17:15:00 -0500 (Mon, 10 Nov 2025) EndedAt: 2025-11-10 17:15:23 -0500 (Mon, 10 Nov 2025) EllapsedTime: 23.0 seconds RetCode: 0 Status: OK PackageFile: DEGraph_1.63.0.tar.gz PackageFileSize: 1.531 MiB