Package: DEFormats Version: 1.39.0 Command: /home/biocbuild/bbs-3.23-bioc/R/bin/R CMD build --keep-empty-dirs --no-resave-data DEFormats StartedAt: 2025-11-05 17:15:45 -0500 (Wed, 05 Nov 2025) EndedAt: 2025-11-05 17:16:23 -0500 (Wed, 05 Nov 2025) EllapsedTime: 38.0 seconds RetCode: 0 Status: OK PackageFile: DEFormats_1.39.0.tar.gz PackageFileSize: 226.4 KiB