Package: DEFormats Version: 1.37.0 Command: /Library/Frameworks/R.framework/Resources/bin/R CMD INSTALL DEFormats StartedAt: 2025-10-14 15:25:46 -0400 (Tue, 14 Oct 2025) EndedAt: 2025-10-14 15:26:23 -0400 (Tue, 14 Oct 2025) EllapsedTime: 36.3 seconds RetCode: 0 Status: OK