Package: DEFormats Version: 1.37.0 Command: /Library/Frameworks/R.framework/Resources/bin/R CMD build --keep-empty-dirs --no-resave-data DEFormats StartedAt: 2025-10-14 16:48:40 -0400 (Tue, 14 Oct 2025) EndedAt: 2025-10-14 16:49:35 -0400 (Tue, 14 Oct 2025) EllapsedTime: 55.4 seconds RetCode: 0 Status: OK PackageFile: DEFormats_1.37.0.tar.gz PackageFileSize: 226.4 KiB