Package: DEFormats Version: 1.37.0 Command: rm -rf DEFormats.buildbin-libdir && mkdir DEFormats.buildbin-libdir && /Users/biocbuild/BBS/utils/build-universal.sh DEFormats_1.37.0.tar.gz /Library/Frameworks/R.framework/Resources/bin/R DEFormats.buildbin-libdir StartedAt: 2025-10-15 02:40:21 -0400 (Wed, 15 Oct 2025) EndedAt: 2025-10-15 02:41:01 -0400 (Wed, 15 Oct 2025) EllapsedTime: 40.2 seconds RetCode: 0 Status: OK PackageFile: DEFormats_1.37.0.tgz PackageFileSize: 487.2 KiB