Package: DEFormats Version: 1.39.0 Maintainer: Andrzej OleÅ› MaintainerEmail: andrzej.oles at gmail.com git_url: https://git.bioconductor.org/packages/DEFormats git_branch: devel git_last_commit: 5034890 git_last_commit_date: 2025-10-29 10:31:05 -0400 (Wed, 29 Oct 2025)