Package: DECIPHER Version: 3.7.0 Command: /home/biocbuild/bbs-3.23-bioc/R/bin/R CMD build --keep-empty-dirs --no-resave-data DECIPHER StartedAt: 2025-11-05 17:13:37 -0500 (Wed, 05 Nov 2025) EndedAt: 2025-11-05 17:32:55 -0500 (Wed, 05 Nov 2025) EllapsedTime: 1158.1 seconds RetCode: 0 Status: OK PackageFile: DECIPHER_3.7.0.tar.gz PackageFileSize: 17.91 MiB